BEGIN:VCALENDAR
VERSION:2.0
PRODID:-//Unitre San Mauro//NONSGML kigkonsult.se iCalcreator 2.30.10//
CALSCALE:GREGORIAN
METHOD:PUBLISH
UID:90840d56-b9ea-47f2-ab59-601a9e6f625e
X-WR-CALNAME:iCagenda
X-WR-CALDESC:Event Management Extension for Joomla!
X-WR-RELCALID:3E26604A-50F4-4449-8B3E-E4F4932D05B5
X-WR-TIMEZONE:UTC
BEGIN:VTIMEZONE
TZID:UTC
END:VTIMEZONE
BEGIN:VEVENT
UID:a66c372b-a252-45cb-869f-a5882fc45bbe
DTSTAMP:20260419T124942Z
CATEGORIES:Laboratori
CLASS:PUBLIC
DESCRIPTION:
DTSTART:20260304T160000Z
DTEND:20260304T160000Z
GEO:00;0
LOCATION:
ORGANIZER:
SEQUENCE:1
SUMMARY:Modelliamo la creta - per principianti
TRANSP:OPAQUE
URL:http://www.unitresanmauro.it/index.php/calendario/213-modelliamo-la-cre
 ta-per-principianti/2026-03-04-16-00
END:VEVENT
END:VCALENDAR
