BEGIN:VCALENDAR
VERSION:2.0
PRODID:-//Unitre San Mauro//NONSGML kigkonsult.se iCalcreator 2.30.10//
CALSCALE:GREGORIAN
METHOD:PUBLISH
UID:f775b479-b502-475d-b129-666ba2bd3e92
X-WR-CALNAME:iCagenda
X-WR-CALDESC:Event Management Extension for Joomla!
X-WR-RELCALID:3E26604A-50F4-4449-8B3E-E4F4932D05B5
X-WR-TIMEZONE:UTC
BEGIN:VTIMEZONE
TZID:UTC
END:VTIMEZONE
BEGIN:VEVENT
UID:1ef9d60d-98cd-45b4-91da-a95f63f72ba5
DTSTAMP:20260419T195737Z
CATEGORIES:Lingue straniere
CLASS:PUBLIC
DESCRIPTION:
DTSTART:20260224T144500Z
DTEND:20260224T144500Z
GEO:00;0
LOCATION:
ORGANIZER:
SEQUENCE:1
SUMMARY:Tedesco: 4° livello (corso a numero chiuso)
TRANSP:OPAQUE
URL:http://www.unitresanmauro.it/index.php/component/icagenda/102-tedesco-4
 -livello/2026-02-24-14-45
END:VEVENT
END:VCALENDAR
