BEGIN:VCALENDAR
VERSION:2.0
PRODID:-//Unitre San Mauro//NONSGML kigkonsult.se iCalcreator 2.30.10//
CALSCALE:GREGORIAN
METHOD:PUBLISH
UID:49d92dff-8ab8-4f23-a256-b3a603964909
X-WR-CALNAME:iCagenda
X-WR-CALDESC:Event Management Extension for Joomla!
X-WR-RELCALID:3E26604A-50F4-4449-8B3E-E4F4932D05B5
X-WR-TIMEZONE:UTC
BEGIN:VTIMEZONE
TZID:UTC
END:VTIMEZONE
BEGIN:VEVENT
UID:68a31a0b-2305-45dc-b1f1-b0b62df76a9e
DTSTAMP:20260419T195856Z
CATEGORIES:Lingue straniere
CLASS:PUBLIC
DESCRIPTION;ALTREP="CID:<FFFF__=0ABBE548DFE235B58f9e8a93d@coffeebean.com>":
 Orario lezione: 14.45 - 15.50
DTSTART:20260213T093000Z
DTEND:20260213T093000Z
GEO:00;0
LOCATION:
ORGANIZER:
SEQUENCE:1
SUMMARY:Inglese 1° livello (corso a numero chiuso)
TRANSP:OPAQUE
URL:http://www.unitresanmauro.it/index.php/component/icagenda/11-inglese-1-
 livello/2026-02-13-09-30
END:VEVENT
END:VCALENDAR
