BEGIN:VCALENDAR
VERSION:2.0
PRODID:-//Unitre San Mauro//NONSGML kigkonsult.se iCalcreator 2.30.10//
CALSCALE:GREGORIAN
METHOD:PUBLISH
UID:81e355e2-05ee-4b29-8506-3a9e235a7a7c
X-WR-CALNAME:iCagenda
X-WR-CALDESC:Event Management Extension for Joomla!
X-WR-RELCALID:3E26604A-50F4-4449-8B3E-E4F4932D05B5
X-WR-TIMEZONE:UTC
BEGIN:VTIMEZONE
TZID:UTC
END:VTIMEZONE
BEGIN:VEVENT
UID:5319ae62-2f80-40d3-a14c-55aec9a408a9
DTSTAMP:20260419T195829Z
CATEGORIES:Corsi e incontri
CLASS:PUBLIC
DESCRIPTION:
DTSTART:20260213T160000Z
DTEND:20260213T160000Z
GEO:00;0
LOCATION:
ORGANIZER:
SEQUENCE:1
SUMMARY:meccanica quantistica\, tra mistero e realtà
TRANSP:OPAQUE
URL:http://www.unitresanmauro.it/index.php/component/icagenda/122-meccanica
 -quantistica-questa-sconosciuta/2026-02-13-16-00
END:VEVENT
END:VCALENDAR
