BEGIN:VCALENDAR
VERSION:2.0
PRODID:-//Unitre San Mauro//NONSGML kigkonsult.se iCalcreator 2.30.10//
CALSCALE:GREGORIAN
METHOD:PUBLISH
UID:6aa23614-2888-4188-aa41-f0688033625d
X-WR-CALNAME:iCagenda
X-WR-CALDESC:Event Management Extension for Joomla!
X-WR-RELCALID:3E26604A-50F4-4449-8B3E-E4F4932D05B5
X-WR-TIMEZONE:UTC
BEGIN:VTIMEZONE
TZID:UTC
END:VTIMEZONE
BEGIN:VEVENT
UID:3ecb95f7-f6ae-42f2-8785-5957f897750b
DTSTAMP:20260419T195830Z
CATEGORIES:Corsi e incontri
CLASS:PUBLIC
DESCRIPTION:
DTSTART:20260227T160000Z
DTEND:20260227T160000Z
GEO:00;0
LOCATION:
ORGANIZER:
SEQUENCE:1
SUMMARY:meccanica quantistica\, tra mistero e realtà
TRANSP:OPAQUE
URL:http://www.unitresanmauro.it/index.php/component/icagenda/122-meccanica
 -quantistica-questa-sconosciuta/2026-02-27-16-00
END:VEVENT
END:VCALENDAR
