BEGIN:VCALENDAR
VERSION:2.0
PRODID:-//Unitre San Mauro//NONSGML kigkonsult.se iCalcreator 2.30.10//
CALSCALE:GREGORIAN
METHOD:PUBLISH
UID:8b842202-8fa6-4d9e-8632-58a3d14b92b1
X-WR-CALNAME:iCagenda
X-WR-CALDESC:Event Management Extension for Joomla!
X-WR-RELCALID:3E26604A-50F4-4449-8B3E-E4F4932D05B5
X-WR-TIMEZONE:UTC
BEGIN:VTIMEZONE
TZID:UTC
END:VTIMEZONE
BEGIN:VEVENT
UID:a1cd3743-fde4-41ac-9ad3-46ea6deedbc4
DTSTAMP:20260419T195837Z
CATEGORIES:Laboratori
CLASS:PUBLIC
DESCRIPTION:
DTSTART:20260203T093000Z
DTEND:20260203T093000Z
GEO:00;0
LOCATION:
ORGANIZER:
SEQUENCE:1
SUMMARY:il-fascino-del-paesaggio-all'acquarello-numero-chiuso
TRANSP:OPAQUE
URL:http://www.unitresanmauro.it/index.php/component/icagenda/123-il-fascin
 o-del-paesaggio-allacquarello-numero-chiuso/2026-02-03-09-30
END:VEVENT
END:VCALENDAR
