BEGIN:VCALENDAR
VERSION:2.0
PRODID:-//Unitre San Mauro//NONSGML kigkonsult.se iCalcreator 2.30.10//
CALSCALE:GREGORIAN
METHOD:PUBLISH
UID:ad54fd25-a8a6-4bbb-95c9-e9ae59956915
X-WR-CALNAME:iCagenda
X-WR-CALDESC:Event Management Extension for Joomla!
X-WR-RELCALID:3E26604A-50F4-4449-8B3E-E4F4932D05B5
X-WR-TIMEZONE:UTC
BEGIN:VTIMEZONE
TZID:UTC
END:VTIMEZONE
BEGIN:VEVENT
UID:8732826a-f146-4f95-9570-078337c22412
DTSTAMP:20260419T195839Z
CATEGORIES:Laboratori
CLASS:PUBLIC
DESCRIPTION:
DTSTART:20260226T093000Z
DTEND:20260226T093000Z
GEO:00;0
LOCATION:
ORGANIZER:
SEQUENCE:1
SUMMARY:Fotografiamo insieme
TRANSP:OPAQUE
URL:http://www.unitresanmauro.it/index.php/component/icagenda/124-fotografi
 amo-insieme-2/2026-02-26-09-30
END:VEVENT
END:VCALENDAR
