BEGIN:VCALENDAR
VERSION:2.0
PRODID:-//Unitre San Mauro//NONSGML kigkonsult.se iCalcreator 2.30.10//
CALSCALE:GREGORIAN
METHOD:PUBLISH
UID:dfe241bd-1eec-4a9d-b64a-d4f1150baae4
X-WR-CALNAME:iCagenda
X-WR-CALDESC:Event Management Extension for Joomla!
X-WR-RELCALID:3E26604A-50F4-4449-8B3E-E4F4932D05B5
X-WR-TIMEZONE:UTC
BEGIN:VTIMEZONE
TZID:UTC
END:VTIMEZONE
BEGIN:VEVENT
UID:20168d0b-8e7a-4b93-b9d1-cc0bd5170134
DTSTAMP:20260419T195737Z
CATEGORIES:Attività e movimento
CLASS:PUBLIC
DESCRIPTION:
DTSTART:20260224T093000Z
DTEND:20260224T093000Z
GEO:00;0
LOCATION:
ORGANIZER:
SEQUENCE:1
SUMMARY:Biodanza : Corso avanzato ( corso a numero chiuso) - c/o Piscina Gr
 amsci\, via del porto 13\, San Mauro - Palestra Grande
TRANSP:OPAQUE
URL:http://www.unitresanmauro.it/index.php/component/icagenda/126-biodanza-
 corso-avanzato-corso-a-numero-chiuso/2026-02-24-09-30
END:VEVENT
END:VCALENDAR
