BEGIN:VCALENDAR
VERSION:2.0
PRODID:-//Unitre San Mauro//NONSGML kigkonsult.se iCalcreator 2.30.10//
CALSCALE:GREGORIAN
METHOD:PUBLISH
UID:4e55e300-76c4-46fc-915d-ee4d65f4ab28
X-WR-CALNAME:iCagenda
X-WR-CALDESC:Event Management Extension for Joomla!
X-WR-RELCALID:3E26604A-50F4-4449-8B3E-E4F4932D05B5
X-WR-TIMEZONE:UTC
BEGIN:VTIMEZONE
TZID:UTC
END:VTIMEZONE
BEGIN:VEVENT
UID:762004d7-9d1f-49d0-91de-88c1d6f1c920
DTSTAMP:20260419T195836Z
CATEGORIES:Laboratori
CLASS:PUBLIC
DESCRIPTION:
DTSTART:20260205T160000Z
DTEND:20260205T160000Z
GEO:00;0
LOCATION:
ORGANIZER:
SEQUENCE:1
SUMMARY:Giochiamo con la prosa e la poesia: scrittura creativa  (corso a nu
 mero chiuso)
TRANSP:OPAQUE
URL:http://www.unitresanmauro.it/index.php/component/icagenda/129-le-eta-de
 lla-vita-laboratori-di-scrittura-autobiografica-corso-a-numero-chiuso/2026
 -02-05-16-00
END:VEVENT
END:VCALENDAR
