BEGIN:VCALENDAR
VERSION:2.0
PRODID:-//Unitre San Mauro//NONSGML kigkonsult.se iCalcreator 2.30.10//
CALSCALE:GREGORIAN
METHOD:PUBLISH
UID:ef5fa589-ae06-4a7a-ab47-89124d640c3a
X-WR-CALNAME:iCagenda
X-WR-CALDESC:Event Management Extension for Joomla!
X-WR-RELCALID:3E26604A-50F4-4449-8B3E-E4F4932D05B5
X-WR-TIMEZONE:UTC
BEGIN:VTIMEZONE
TZID:UTC
END:VTIMEZONE
BEGIN:VEVENT
UID:b5b82471-6137-4e90-a688-1539390d1bbd
DTSTAMP:20260419T195857Z
CATEGORIES:Lingue straniere
CLASS:PUBLIC
DESCRIPTION;ALTREP="CID:<FFFF__=0ABBE548DFE235B58f9e8a93d@coffeebean.com>":
 &nbsp\;\nprimo approccio alla lingua parlata con letture\, comprensione e 
 riproduzione di brevi dialoghi riguardanti la vita quotidiana. Nozioni bas
 e di grammatica&nbsp\;
DTSTART:20260204T144500Z
DTEND:20260204T144500Z
GEO:00;0
LOCATION:
ORGANIZER:
SEQUENCE:1
SUMMARY:Tedesco 1° Livello
TRANSP:OPAQUE
URL:http://www.unitresanmauro.it/index.php/component/icagenda/13-tedesco-1-
 livello/2026-02-04-14-45
END:VEVENT
END:VCALENDAR
