BEGIN:VCALENDAR
VERSION:2.0
PRODID:-//Unitre San Mauro//NONSGML kigkonsult.se iCalcreator 2.30.10//
CALSCALE:GREGORIAN
METHOD:PUBLISH
UID:84ede5b4-5602-4927-bed2-196ae437be7a
X-WR-CALNAME:iCagenda
X-WR-CALDESC:Event Management Extension for Joomla!
X-WR-RELCALID:3E26604A-50F4-4449-8B3E-E4F4932D05B5
X-WR-TIMEZONE:UTC
BEGIN:VTIMEZONE
TZID:UTC
END:VTIMEZONE
BEGIN:VEVENT
UID:483fa8a2-84d5-4472-9c40-ee9c7696d2b3
DTSTAMP:20260419T195835Z
CATEGORIES:Laboratori
CLASS:PUBLIC
DESCRIPTION:
DTSTART:20260227T160000Z
DTEND:20260227T160000Z
GEO:00;0
LOCATION:
ORGANIZER:
SEQUENCE:1
SUMMARY:ricamo
TRANSP:OPAQUE
URL:http://www.unitresanmauro.it/index.php/component/icagenda/130-ricamo/20
 26-02-27-16-00
END:VEVENT
END:VCALENDAR
