BEGIN:VCALENDAR
VERSION:2.0
PRODID:-//Unitre San Mauro//NONSGML kigkonsult.se iCalcreator 2.30.10//
CALSCALE:GREGORIAN
METHOD:PUBLISH
UID:b0dbddb8-ce85-4a7c-8e7d-400cb03bf3b2
X-WR-CALNAME:iCagenda
X-WR-CALDESC:Event Management Extension for Joomla!
X-WR-RELCALID:3E26604A-50F4-4449-8B3E-E4F4932D05B5
X-WR-TIMEZONE:UTC
BEGIN:VTIMEZONE
TZID:UTC
END:VTIMEZONE
BEGIN:VEVENT
UID:15c2fe70-81ac-4b56-b418-bf488f256438
DTSTAMP:20260419T195839Z
CATEGORIES:Attività e movimento
CLASS:PUBLIC
DESCRIPTION:
DTSTART:20260219T163000Z
DTEND:20260219T163000Z
GEO:00;0
LOCATION:
ORGANIZER:
SEQUENCE:1
SUMMARY:Allenamento funzionale ( corso a numero chiuso) - c/o Piscina Grams
 ci\, via del porto 13\, San Mauro - Palestra Piccola
TRANSP:OPAQUE
URL:http://www.unitresanmauro.it/index.php/component/icagenda/132-allenamen
 to-funzionale-contro-la-perdita-di-massa-muscolare-2-corso-a-numero-chiuso
 /2026-02-19-16-30
END:VEVENT
END:VCALENDAR
