BEGIN:VCALENDAR
VERSION:2.0
PRODID:-//Unitre San Mauro//NONSGML kigkonsult.se iCalcreator 2.30.10//
CALSCALE:GREGORIAN
METHOD:PUBLISH
UID:6dc98bd2-7330-4fbf-b955-4bcba0a73ea8
X-WR-CALNAME:iCagenda
X-WR-CALDESC:Event Management Extension for Joomla!
X-WR-RELCALID:3E26604A-50F4-4449-8B3E-E4F4932D05B5
X-WR-TIMEZONE:UTC
BEGIN:VTIMEZONE
TZID:UTC
END:VTIMEZONE
BEGIN:VEVENT
UID:0852866b-2306-44f4-a30e-13edd473826b
DTSTAMP:20260419T195844Z
CATEGORIES:Attività e movimento
CLASS:PUBLIC
DESCRIPTION:
DTSTART:20260223T144500Z
DTEND:20260223T144500Z
GEO:00;0
LOCATION:
ORGANIZER:
SEQUENCE:1
SUMMARY:Biodanza: corso principianti  ( corso a numero chiuso) - c/o Piscin
 a Gramsci\, via del porto 13\, San Mauro - Palestra Grande
TRANSP:OPAQUE
URL:http://www.unitresanmauro.it/index.php/component/icagenda/133-biodanza-
 corso-principianti-a-numero-chiuso/2026-02-23-14-45
END:VEVENT
END:VCALENDAR
