BEGIN:VCALENDAR
VERSION:2.0
PRODID:-//Unitre San Mauro//NONSGML kigkonsult.se iCalcreator 2.30.10//
CALSCALE:GREGORIAN
METHOD:PUBLISH
UID:6cf68020-acf9-4e9e-babc-7e7ef0d3e759
X-WR-CALNAME:iCagenda
X-WR-CALDESC:Event Management Extension for Joomla!
X-WR-RELCALID:3E26604A-50F4-4449-8B3E-E4F4932D05B5
X-WR-TIMEZONE:UTC
BEGIN:VTIMEZONE
TZID:UTC
END:VTIMEZONE
BEGIN:VEVENT
UID:506a297c-8b40-4bea-adc7-c4c890611baf
DTSTAMP:20260419T195846Z
CATEGORIES:Attività e movimento
CLASS:PUBLIC
DESCRIPTION:
DTSTART:20260205T153000Z
DTEND:20260205T153000Z
GEO:00;0
LOCATION:
ORGANIZER:
SEQUENCE:1
SUMMARY:Yoga : il respiro - l'energia sottile ( corso a numero chiuso) - c/
 o Piscina Gramsci\, via del porto 13\, San Mauro - Palestra Grande
TRANSP:OPAQUE
URL:http://www.unitresanmauro.it/index.php/component/icagenda/134-yoga-e-sa
 lute-corso-a-numero-chiuso/2026-02-05-15-30
END:VEVENT
END:VCALENDAR
