BEGIN:VCALENDAR
VERSION:2.0
PRODID:-//Unitre San Mauro//NONSGML kigkonsult.se iCalcreator 2.30.10//
CALSCALE:GREGORIAN
METHOD:PUBLISH
UID:319a38ff-aeb0-464e-9f5a-ceeba827b608
X-WR-CALNAME:iCagenda
X-WR-CALDESC:Event Management Extension for Joomla!
X-WR-RELCALID:3E26604A-50F4-4449-8B3E-E4F4932D05B5
X-WR-TIMEZONE:UTC
BEGIN:VTIMEZONE
TZID:UTC
END:VTIMEZONE
BEGIN:VEVENT
UID:ad220f58-dabf-4875-975d-ef4475fe82b8
DTSTAMP:20260419T195736Z
CATEGORIES:Attività e movimento
CLASS:PUBLIC
DESCRIPTION:
DTSTART:20260210T153000Z
DTEND:20260210T153000Z
GEO:00;0
LOCATION:
ORGANIZER:
SEQUENCE:1
SUMMARY:Brain longevity (r) Yoga e salute  ( corso a numero chiuso) - c/o P
 iscina Gramsci\, via del porto 13\, San Mauro - Palestra Grande
TRANSP:OPAQUE
URL:http://www.unitresanmauro.it/index.php/component/icagenda/142-brain-lon
 gevity-r-yoga-e-salute-corso-a-numero-chiuso-palestra-c-o-piscina-gramsci-
 v-del-porto-13/2026-02-10-15-30
END:VEVENT
END:VCALENDAR
