BEGIN:VCALENDAR
VERSION:2.0
PRODID:-//Unitre San Mauro//NONSGML kigkonsult.se iCalcreator 2.30.10//
CALSCALE:GREGORIAN
METHOD:PUBLISH
UID:fd83d46b-1418-46f6-807f-8084eb068ddd
X-WR-CALNAME:iCagenda
X-WR-CALDESC:Event Management Extension for Joomla!
X-WR-RELCALID:3E26604A-50F4-4449-8B3E-E4F4932D05B5
X-WR-TIMEZONE:UTC
BEGIN:VTIMEZONE
TZID:UTC
END:VTIMEZONE
BEGIN:VEVENT
UID:fb835799-ef89-433e-b4aa-07402904055a
DTSTAMP:20260419T195838Z
CATEGORIES:Attività e movimento
CLASS:PUBLIC
DESCRIPTION:
DTSTART:20260206T153000Z
DTEND:20260206T153000Z
GEO:00;0
LOCATION:
ORGANIZER:
SEQUENCE:1
SUMMARY:Ginnastica del Benessere  ( corso a numero chiuso) - c/o Piscina Gr
 amsci\, via del porto 13\, San Mauro - Palestra Grande
TRANSP:OPAQUE
URL:http://www.unitresanmauro.it/index.php/component/icagenda/143-ginnastic
 a-del-benessere-corso-a-numero-chiuso-palestra-c-o-piscina-gramsci-v-del-p
 orto-13/2026-02-06-15-30
END:VEVENT
END:VCALENDAR
