BEGIN:VCALENDAR
VERSION:2.0
PRODID:-//Unitre San Mauro//NONSGML kigkonsult.se iCalcreator 2.30.10//
CALSCALE:GREGORIAN
METHOD:PUBLISH
UID:39a14a00-f6b5-4226-99a8-f640a598ccac
X-WR-CALNAME:iCagenda
X-WR-CALDESC:Event Management Extension for Joomla!
X-WR-RELCALID:3E26604A-50F4-4449-8B3E-E4F4932D05B5
X-WR-TIMEZONE:UTC
BEGIN:VTIMEZONE
TZID:UTC
END:VTIMEZONE
BEGIN:VEVENT
UID:0a855306-7621-41dc-9287-a9b74f77ea66
DTSTAMP:20260419T195830Z
CATEGORIES:Corsi e incontri
CLASS:PUBLIC
DESCRIPTION:
DTSTART:20260203T160000Z
DTEND:20260203T160000Z
GEO:00;0
LOCATION:
ORGANIZER:
SEQUENCE:1
SUMMARY:Il Piemonte dalla ricostruzione al boom economico - 1946 - 1963
TRANSP:OPAQUE
URL:http://www.unitresanmauro.it/index.php/component/icagenda/155-il-piemon
 te-nella-seconda-guerra-mondiale/2026-02-03-16-00
END:VEVENT
END:VCALENDAR
