BEGIN:VCALENDAR
VERSION:2.0
PRODID:-//Unitre San Mauro//NONSGML kigkonsult.se iCalcreator 2.30.10//
CALSCALE:GREGORIAN
METHOD:PUBLISH
UID:e1e5390e-262e-42a5-8c44-0604217b9357
X-WR-CALNAME:iCagenda
X-WR-CALDESC:Event Management Extension for Joomla!
X-WR-RELCALID:3E26604A-50F4-4449-8B3E-E4F4932D05B5
X-WR-TIMEZONE:UTC
BEGIN:VTIMEZONE
TZID:UTC
END:VTIMEZONE
BEGIN:VEVENT
UID:b68bb2e4-8429-4a79-9a52-c24e246b0dfd
DTSTAMP:20260419T195736Z
CATEGORIES:Corsi e incontri
CLASS:PUBLIC
DESCRIPTION:
DTSTART:20260210T160000Z
DTEND:20260210T160000Z
GEO:00;0
LOCATION:
ORGANIZER:
SEQUENCE:1
SUMMARY:Passeggiate virtuali per Torino
TRANSP:OPAQUE
URL:http://www.unitresanmauro.it/index.php/component/icagenda/158-passeggia
 te-virtuali-dimore-sabaude-patrimonio-unesco/2026-02-10-16-00
END:VEVENT
END:VCALENDAR
