BEGIN:VCALENDAR
VERSION:2.0
PRODID:-//Unitre San Mauro//NONSGML kigkonsult.se iCalcreator 2.30.10//
CALSCALE:GREGORIAN
METHOD:PUBLISH
UID:39903988-905e-43d0-b02f-3c40eef7a8a7
X-WR-CALNAME:iCagenda
X-WR-CALDESC:Event Management Extension for Joomla!
X-WR-RELCALID:3E26604A-50F4-4449-8B3E-E4F4932D05B5
X-WR-TIMEZONE:UTC
BEGIN:VTIMEZONE
TZID:UTC
END:VTIMEZONE
BEGIN:VEVENT
UID:4133b5ce-0b98-4c3e-995a-8076207ea341
DTSTAMP:20260419T195844Z
CATEGORIES:Laboratori
CLASS:PUBLIC
DESCRIPTION:
DTSTART:20260203T160000Z
DTEND:20260203T160000Z
GEO:00;0
LOCATION:
ORGANIZER:
SEQUENCE:1
SUMMARY:L'arte dello stencil con il tempera o acrilico (corso a numero chiu
 so)
TRANSP:OPAQUE
URL:http://www.unitresanmauro.it/index.php/component/icagenda/159-larte-del
 lo-stencil-con-il-tempera-o-acrilico/2026-02-03-16-00
END:VEVENT
END:VCALENDAR
