BEGIN:VCALENDAR
VERSION:2.0
PRODID:-//Unitre San Mauro//NONSGML kigkonsult.se iCalcreator 2.30.10//
CALSCALE:GREGORIAN
METHOD:PUBLISH
UID:73ddd46b-fc96-4cb4-9479-29e7babf2aa8
X-WR-CALNAME:iCagenda
X-WR-CALDESC:Event Management Extension for Joomla!
X-WR-RELCALID:3E26604A-50F4-4449-8B3E-E4F4932D05B5
X-WR-TIMEZONE:UTC
BEGIN:VTIMEZONE
TZID:UTC
END:VTIMEZONE
BEGIN:VEVENT
UID:c3be7dd3-cbf8-4b94-9e81-98c2572775ea
DTSTAMP:20260419T195840Z
CATEGORIES:Laboratori
CLASS:PUBLIC
DESCRIPTION:
DTSTART:20260204T160000Z
DTEND:20260204T160000Z
GEO:00;0
LOCATION:
ORGANIZER:
SEQUENCE:1
SUMMARY:Arte terapia: tecniche grafiche di meditazione creativa
TRANSP:OPAQUE
URL:http://www.unitresanmauro.it/index.php/component/icagenda/164-arte-tera
 pia-tecniche-grafiche-di-meditazione-creativa/2026-02-04-16-00
END:VEVENT
END:VCALENDAR
