BEGIN:VCALENDAR
VERSION:2.0
PRODID:-//Unitre San Mauro//NONSGML kigkonsult.se iCalcreator 2.30.10//
CALSCALE:GREGORIAN
METHOD:PUBLISH
UID:98ec7353-fef2-450f-988f-8ad642949327
X-WR-CALNAME:iCagenda
X-WR-CALDESC:Event Management Extension for Joomla!
X-WR-RELCALID:3E26604A-50F4-4449-8B3E-E4F4932D05B5
X-WR-TIMEZONE:UTC
BEGIN:VTIMEZONE
TZID:UTC
END:VTIMEZONE
BEGIN:VEVENT
UID:0ab9e10c-3b8e-438b-84c1-bf5662d54c86
DTSTAMP:20260419T195837Z
CATEGORIES:Corsi e incontri
CLASS:PUBLIC
DESCRIPTION:
DTSTART:20260212T160000Z
DTEND:20260212T160000Z
GEO:00;0
LOCATION:
ORGANIZER:
SEQUENCE:1
SUMMARY:Civiltà inglese: Britain in the 20th century - from Queen Victoria 
 to Elisabeth II (corso a numero chiuso)
TRANSP:OPAQUE
URL:http://www.unitresanmauro.it/index.php/component/icagenda/166-cultura-e
 -civilta-inglese-da-elisabetta-i-alla-rivoluzione-industriale-corso-a-nume
 ro-chiuso/2026-02-12-16-00
END:VEVENT
END:VCALENDAR
