BEGIN:VCALENDAR
VERSION:2.0
PRODID:-//Unitre San Mauro//NONSGML kigkonsult.se iCalcreator 2.30.10//
CALSCALE:GREGORIAN
METHOD:PUBLISH
UID:d0d8801a-cd51-4167-add2-595fc0c7df1e
X-WR-CALNAME:iCagenda
X-WR-CALDESC:Event Management Extension for Joomla!
X-WR-RELCALID:3E26604A-50F4-4449-8B3E-E4F4932D05B5
X-WR-TIMEZONE:UTC
BEGIN:VTIMEZONE
TZID:UTC
END:VTIMEZONE
BEGIN:VEVENT
UID:d1dd74f3-ed4d-4ff4-9218-6db1dc150830
DTSTAMP:20260419T195738Z
CATEGORIES:Gite
CLASS:PUBLIC
DESCRIPTION:
DTSTART:20260225T070000Z
DTEND:20260225T200000Z
GEO:00;0
LOCATION:
ORGANIZER:
SEQUENCE:1
SUMMARY:GITA DA PROGRAMMARE
TRANSP:OPAQUE
URL:http://www.unitresanmauro.it/index.php/component/icagenda/175-gita-da-p
 rogrammare-2/2026-02-25-07-00
END:VEVENT
END:VCALENDAR
