BEGIN:VCALENDAR
VERSION:2.0
PRODID:-//Unitre San Mauro//NONSGML kigkonsult.se iCalcreator 2.30.10//
CALSCALE:GREGORIAN
METHOD:PUBLISH
UID:c34aa9cc-3bc7-4b9d-af3c-293915d03fce
X-WR-CALNAME:iCagenda
X-WR-CALDESC:Event Management Extension for Joomla!
X-WR-RELCALID:3E26604A-50F4-4449-8B3E-E4F4932D05B5
X-WR-TIMEZONE:UTC
BEGIN:VTIMEZONE
TZID:UTC
END:VTIMEZONE
BEGIN:VEVENT
UID:ce580387-acc7-4076-a61e-28d6bff28a44
DTSTAMP:20260419T195838Z
CATEGORIES:Attività e movimento
CLASS:PUBLIC
DESCRIPTION:
DTSTART:20260204T150000Z
DTEND:20260204T150000Z
GEO:00;0
LOCATION:
ORGANIZER:
SEQUENCE:1
SUMMARY:Pilates -  ( corso a numero chiuso) - c/o Piscina Gramsci\, via del
  porto 13\, San Mauro - Palestra Piccola
TRANSP:OPAQUE
URL:http://www.unitresanmauro.it/index.php/component/icagenda/183-pilates-p
 alestra-c-o-piscina-gramsci-v-del-porto-13/2026-02-04-15-00
END:VEVENT
END:VCALENDAR
