BEGIN:VCALENDAR
VERSION:2.0
PRODID:-//Unitre San Mauro//NONSGML kigkonsult.se iCalcreator 2.30.10//
CALSCALE:GREGORIAN
METHOD:PUBLISH
UID:1e932129-a10a-447d-aa90-5dc281f5e166
X-WR-CALNAME:iCagenda
X-WR-CALDESC:Event Management Extension for Joomla!
X-WR-RELCALID:3E26604A-50F4-4449-8B3E-E4F4932D05B5
X-WR-TIMEZONE:UTC
BEGIN:VTIMEZONE
TZID:UTC
END:VTIMEZONE
BEGIN:VEVENT
UID:116d7733-1ca5-4b02-ab26-4d7ecd992182
DTSTAMP:20260419T195837Z
CATEGORIES:Attività e movimento
CLASS:PUBLIC
DESCRIPTION:
DTSTART:20260211T150000Z
DTEND:20260211T150000Z
GEO:00;0
LOCATION:
ORGANIZER:
SEQUENCE:1
SUMMARY:Pilates -  ( corso a numero chiuso) - c/o Piscina Gramsci\, via del
  porto 13\, San Mauro - Palestra Piccola
TRANSP:OPAQUE
URL:http://www.unitresanmauro.it/index.php/component/icagenda/183-pilates-p
 alestra-c-o-piscina-gramsci-v-del-porto-13/2026-02-11-15-00
END:VEVENT
END:VCALENDAR
