BEGIN:VCALENDAR
VERSION:2.0
PRODID:-//Unitre San Mauro//NONSGML kigkonsult.se iCalcreator 2.30.10//
CALSCALE:GREGORIAN
METHOD:PUBLISH
UID:d000aade-ce09-4d03-a90d-3877e18770a4
X-WR-CALNAME:iCagenda
X-WR-CALDESC:Event Management Extension for Joomla!
X-WR-RELCALID:3E26604A-50F4-4449-8B3E-E4F4932D05B5
X-WR-TIMEZONE:UTC
BEGIN:VTIMEZONE
TZID:UTC
END:VTIMEZONE
BEGIN:VEVENT
UID:716e59a6-4f7d-4d25-8a71-6c91a7525d0d
DTSTAMP:20260419T195837Z
CATEGORIES:Attività e movimento
CLASS:PUBLIC
DESCRIPTION:
DTSTART:20260218T150000Z
DTEND:20260218T150000Z
GEO:00;0
LOCATION:
ORGANIZER:
SEQUENCE:1
SUMMARY:Pilates -  ( corso a numero chiuso) - c/o Piscina Gramsci\, via del
  porto 13\, San Mauro - Palestra Piccola
TRANSP:OPAQUE
URL:http://www.unitresanmauro.it/index.php/component/icagenda/183-pilates-p
 alestra-c-o-piscina-gramsci-v-del-porto-13/2026-02-18-15-00
END:VEVENT
END:VCALENDAR
