BEGIN:VCALENDAR
VERSION:2.0
PRODID:-//Unitre San Mauro//NONSGML kigkonsult.se iCalcreator 2.30.10//
CALSCALE:GREGORIAN
METHOD:PUBLISH
UID:df7b82d0-6465-437d-a769-b3f8e19016f7
X-WR-CALNAME:iCagenda
X-WR-CALDESC:Event Management Extension for Joomla!
X-WR-RELCALID:3E26604A-50F4-4449-8B3E-E4F4932D05B5
X-WR-TIMEZONE:UTC
BEGIN:VTIMEZONE
TZID:UTC
END:VTIMEZONE
BEGIN:VEVENT
UID:ad732926-b6d0-4d83-a04e-9e245960d7b8
DTSTAMP:20260419T195841Z
CATEGORIES:Corsi e incontri
CLASS:PUBLIC
DESCRIPTION:
DTSTART:20260202T160000Z
DTEND:20260202T160000Z
GEO:00;0
LOCATION:
ORGANIZER:
SEQUENCE:1
SUMMARY:Contaminazione e Crossover: dalla musica popolare a quella classica
  e viceversa
TRANSP:OPAQUE
URL:http://www.unitresanmauro.it/index.php/component/icagenda/186-contamina
 zione-e-crossover-dalla-musica-popolare-a-quella-classica-e-viceversa/2026
 -02-02-16-00
END:VEVENT
END:VCALENDAR
