BEGIN:VCALENDAR
VERSION:2.0
PRODID:-//Unitre San Mauro//NONSGML kigkonsult.se iCalcreator 2.30.10//
CALSCALE:GREGORIAN
METHOD:PUBLISH
UID:895a5039-444e-4075-b15e-1b0255cb06d7
X-WR-CALNAME:iCagenda
X-WR-CALDESC:Event Management Extension for Joomla!
X-WR-RELCALID:3E26604A-50F4-4449-8B3E-E4F4932D05B5
X-WR-TIMEZONE:UTC
BEGIN:VTIMEZONE
TZID:UTC
END:VTIMEZONE
BEGIN:VEVENT
UID:79a4047b-7a66-4832-914b-2bd04e87aca4
DTSTAMP:20260419T195841Z
CATEGORIES:Corsi e incontri
CLASS:PUBLIC
DESCRIPTION:
DTSTART:20260202T160000Z
DTEND:20260202T160000Z
GEO:00;0
LOCATION:
ORGANIZER:
SEQUENCE:1
SUMMARY:Letteratura e civilizzazione francese
TRANSP:OPAQUE
URL:http://www.unitresanmauro.it/index.php/component/icagenda/189-letteratu
 ra-e-civilizzazione-francese/2026-02-02-16-00
END:VEVENT
END:VCALENDAR
