BEGIN:VCALENDAR
VERSION:2.0
PRODID:-//Unitre San Mauro//NONSGML kigkonsult.se iCalcreator 2.30.10//
CALSCALE:GREGORIAN
METHOD:PUBLISH
UID:35c7e765-ee9e-40fd-8b1f-757c9811bdd1
X-WR-CALNAME:iCagenda
X-WR-CALDESC:Event Management Extension for Joomla!
X-WR-RELCALID:3E26604A-50F4-4449-8B3E-E4F4932D05B5
X-WR-TIMEZONE:UTC
BEGIN:VTIMEZONE
TZID:UTC
END:VTIMEZONE
BEGIN:VEVENT
UID:e508b5cf-0d0e-40e3-9afc-8ad22b207438
DTSTAMP:20260419T195841Z
CATEGORIES:Corsi e incontri
CLASS:PUBLIC
DESCRIPTION:
DTSTART:20260210T160000Z
DTEND:20260210T160000Z
GEO:00;0
LOCATION:
ORGANIZER:
SEQUENCE:1
SUMMARY:Finanza ed investimenti per principianti
TRANSP:OPAQUE
URL:http://www.unitresanmauro.it/index.php/component/icagenda/193-finanza-e
 d-investimenti-per-principianti/2026-02-10-16-00
END:VEVENT
END:VCALENDAR
