BEGIN:VCALENDAR
VERSION:2.0
PRODID:-//Unitre San Mauro//NONSGML kigkonsult.se iCalcreator 2.30.10//
CALSCALE:GREGORIAN
METHOD:PUBLISH
UID:08050abe-e435-4ec1-9596-e69144fdd7fd
X-WR-CALNAME:iCagenda
X-WR-CALDESC:Event Management Extension for Joomla!
X-WR-RELCALID:3E26604A-50F4-4449-8B3E-E4F4932D05B5
X-WR-TIMEZONE:UTC
BEGIN:VTIMEZONE
TZID:UTC
END:VTIMEZONE
BEGIN:VEVENT
UID:b098c1c6-5d81-447a-9dc6-170307f6f0ac
DTSTAMP:20260419T195736Z
CATEGORIES:Corsi e incontri
CLASS:PUBLIC
DESCRIPTION:
DTSTART:20260224T160000Z
DTEND:20260224T160000Z
GEO:00;0
LOCATION:
ORGANIZER:
SEQUENCE:1
SUMMARY:Finanza ed investimenti per principianti
TRANSP:OPAQUE
URL:http://www.unitresanmauro.it/index.php/component/icagenda/193-finanza-e
 d-investimenti-per-principianti/2026-02-24-16-00
END:VEVENT
END:VCALENDAR
