BEGIN:VCALENDAR
VERSION:2.0
PRODID:-//Unitre San Mauro//NONSGML kigkonsult.se iCalcreator 2.30.10//
CALSCALE:GREGORIAN
METHOD:PUBLISH
UID:50229b20-3586-4c20-b146-1a34e2bd8103
X-WR-CALNAME:iCagenda
X-WR-CALDESC:Event Management Extension for Joomla!
X-WR-RELCALID:3E26604A-50F4-4449-8B3E-E4F4932D05B5
X-WR-TIMEZONE:UTC
BEGIN:VTIMEZONE
TZID:UTC
END:VTIMEZONE
BEGIN:VEVENT
UID:eb1e15e5-26a5-44c0-a34e-2bff384acd95
DTSTAMP:20260419T195859Z
CATEGORIES:Lingue straniere
CLASS:PUBLIC
DESCRIPTION;ALTREP="CID:<FFFF__=0ABBE548DFE235B58f9e8a93d@coffeebean.com>":
 Orario lezione: 14.45 - 15.50
DTSTART:20260204T144500Z
DTEND:20260204T144500Z
GEO:00;0
LOCATION:
ORGANIZER:
SEQUENCE:1
SUMMARY:Francese 3° Livello
TRANSP:OPAQUE
URL:http://www.unitresanmauro.it/index.php/component/icagenda/20-francese-3
 -livello/2026-02-04-14-45
END:VEVENT
END:VCALENDAR
