BEGIN:VCALENDAR
VERSION:2.0
PRODID:-//Unitre San Mauro//NONSGML kigkonsult.se iCalcreator 2.30.10//
CALSCALE:GREGORIAN
METHOD:PUBLISH
UID:76d26eae-0be8-45ee-894c-438e59ea4e5e
X-WR-CALNAME:iCagenda
X-WR-CALDESC:Event Management Extension for Joomla!
X-WR-RELCALID:3E26604A-50F4-4449-8B3E-E4F4932D05B5
X-WR-TIMEZONE:UTC
BEGIN:VTIMEZONE
TZID:UTC
END:VTIMEZONE
BEGIN:VEVENT
UID:4e640313-15f9-487c-afa9-f2f9859afbcc
DTSTAMP:20260419T195858Z
CATEGORIES:Lingue straniere
CLASS:PUBLIC
DESCRIPTION;ALTREP="CID:<FFFF__=0ABBE548DFE235B58f9e8a93d@coffeebean.com>":
 Orario lezione: 14.45 - 15.50
DTSTART:20260211T144500Z
DTEND:20260211T144500Z
GEO:00;0
LOCATION:
ORGANIZER:
SEQUENCE:1
SUMMARY:Francese 3° Livello
TRANSP:OPAQUE
URL:http://www.unitresanmauro.it/index.php/component/icagenda/20-francese-3
 -livello/2026-02-11-14-45
END:VEVENT
END:VCALENDAR
