BEGIN:VCALENDAR
VERSION:2.0
PRODID:-//Unitre San Mauro//NONSGML kigkonsult.se iCalcreator 2.30.10//
CALSCALE:GREGORIAN
METHOD:PUBLISH
UID:2dd97a44-a9f4-4c52-ba9f-dab7f4e582f2
X-WR-CALNAME:iCagenda
X-WR-CALDESC:Event Management Extension for Joomla!
X-WR-RELCALID:3E26604A-50F4-4449-8B3E-E4F4932D05B5
X-WR-TIMEZONE:UTC
BEGIN:VTIMEZONE
TZID:UTC
END:VTIMEZONE
BEGIN:VEVENT
UID:4c8a1845-3aa8-461e-b168-9ab3d0230a79
DTSTAMP:20260419T195836Z
CATEGORIES:Corsi e incontri
CLASS:PUBLIC
DESCRIPTION:
DTSTART:20260218T160000Z
DTEND:20260218T180000Z
GEO:00;0
LOCATION:
ORGANIZER:
SEQUENCE:1
SUMMARY:La letteratura è una difesa contro le offese della vita. (Cesare Pa
 vese)
TRANSP:OPAQUE
URL:http://www.unitresanmauro.it/index.php/component/icagenda/202-la-letter
 atura-e-una-difesa-contro-le-offese-della-vita-cesare-pavese/2026-02-18-16
 -00
END:VEVENT
END:VCALENDAR
