BEGIN:VCALENDAR
VERSION:2.0
PRODID:-//Unitre San Mauro//NONSGML kigkonsult.se iCalcreator 2.30.10//
CALSCALE:GREGORIAN
METHOD:PUBLISH
UID:a3d2d071-fd1e-45c5-869e-31087c72409d
X-WR-CALNAME:iCagenda
X-WR-CALDESC:Event Management Extension for Joomla!
X-WR-RELCALID:3E26604A-50F4-4449-8B3E-E4F4932D05B5
X-WR-TIMEZONE:UTC
BEGIN:VTIMEZONE
TZID:UTC
END:VTIMEZONE
BEGIN:VEVENT
UID:705566dd-209b-4c9e-b0ca-c89ad20eda9a
DTSTAMP:20260419T195836Z
CATEGORIES:Laboratori
CLASS:PUBLIC
DESCRIPTION:
DTSTART:20260202T093000Z
DTEND:20260202T093000Z
GEO:00;0
LOCATION:
ORGANIZER:
SEQUENCE:1
SUMMARY:Amigurumi - tecnica giapponese di lavoro all'uncinetto (richiesta u
 na buona conoscenza del lavoro ad uncinetto classico)
TRANSP:OPAQUE
URL:http://www.unitresanmauro.it/index.php/component/icagenda/208-amigurumi
 -tecnica-giapponese-di-lavoro-alluncinetto-richiesta-una-buona-conoscenza-
 del-lavoro-ad-uncinetto-classico/2026-02-02-09-30
END:VEVENT
END:VCALENDAR
