BEGIN:VCALENDAR
VERSION:2.0
PRODID:-//Unitre San Mauro//NONSGML kigkonsult.se iCalcreator 2.30.10//
CALSCALE:GREGORIAN
METHOD:PUBLISH
UID:2a1b0c74-5eff-42e2-b2bf-d4bebd9b2194
X-WR-CALNAME:iCagenda
X-WR-CALDESC:Event Management Extension for Joomla!
X-WR-RELCALID:3E26604A-50F4-4449-8B3E-E4F4932D05B5
X-WR-TIMEZONE:UTC
BEGIN:VTIMEZONE
TZID:UTC
END:VTIMEZONE
BEGIN:VEVENT
UID:a3ecdf49-2421-40dc-8d5b-f993e796b222
DTSTAMP:20260419T195841Z
CATEGORIES:Laboratori
CLASS:PUBLIC
DESCRIPTION:
DTSTART:20260206T160000Z
DTEND:20260206T160000Z
GEO:00;0
LOCATION:
ORGANIZER:
SEQUENCE:1
SUMMARY:ritratto ad olio con la tecnica delle velature (corso a numero chiu
 so)
TRANSP:OPAQUE
URL:http://www.unitresanmauro.it/index.php/component/icagenda/210-ritratto-
 ad-olio-con-la-tecnica-delle-velature-corso-a-numero-chiuso/2026-02-06-16-
 00
END:VEVENT
END:VCALENDAR
