BEGIN:VCALENDAR
VERSION:2.0
PRODID:-//Unitre San Mauro//NONSGML kigkonsult.se iCalcreator 2.30.10//
CALSCALE:GREGORIAN
METHOD:PUBLISH
UID:81b94915-d7b6-4c0f-a339-a00d4b20ff81
X-WR-CALNAME:iCagenda
X-WR-CALDESC:Event Management Extension for Joomla!
X-WR-RELCALID:3E26604A-50F4-4449-8B3E-E4F4932D05B5
X-WR-TIMEZONE:UTC
BEGIN:VTIMEZONE
TZID:UTC
END:VTIMEZONE
BEGIN:VEVENT
UID:e9161256-a6ca-4389-b49b-161038a705c1
DTSTAMP:20260419T195842Z
CATEGORIES:Laboratori
CLASS:PUBLIC
DESCRIPTION:
DTSTART:20260218T160000Z
DTEND:20260218T160000Z
GEO:00;0
LOCATION:
ORGANIZER:
SEQUENCE:1
SUMMARY:Modelliamo la creta - per principianti
TRANSP:OPAQUE
URL:http://www.unitresanmauro.it/index.php/component/icagenda/213-modelliam
 o-la-creta-per-principianti/2026-02-18-16-00
END:VEVENT
END:VCALENDAR
