BEGIN:VCALENDAR
VERSION:2.0
PRODID:-//Unitre San Mauro//NONSGML kigkonsult.se iCalcreator 2.30.10//
CALSCALE:GREGORIAN
METHOD:PUBLISH
UID:14e38769-7a02-4c3b-a8e2-3cb1bc2582c0
X-WR-CALNAME:iCagenda
X-WR-CALDESC:Event Management Extension for Joomla!
X-WR-RELCALID:3E26604A-50F4-4449-8B3E-E4F4932D05B5
X-WR-TIMEZONE:UTC
BEGIN:VTIMEZONE
TZID:UTC
END:VTIMEZONE
BEGIN:VEVENT
UID:9ec5e375-6581-43d2-b0c0-3c3e5c1b34b2
DTSTAMP:20260419T195834Z
CATEGORIES:Corsi e incontri
CLASS:PUBLIC
DESCRIPTION:
DTSTART:20260226T160000Z
DTEND:20260226T160000Z
GEO:00;0
LOCATION:
ORGANIZER:
SEQUENCE:1
SUMMARY:Elementi di disegno
TRANSP:OPAQUE
URL:http://www.unitresanmauro.it/index.php/component/icagenda/215-elementi-
 di-disegno-2/2026-02-26-16-00
END:VEVENT
END:VCALENDAR
