BEGIN:VCALENDAR
VERSION:2.0
PRODID:-//Unitre San Mauro//NONSGML kigkonsult.se iCalcreator 2.30.10//
CALSCALE:GREGORIAN
METHOD:PUBLISH
UID:b00ef64c-a8ac-4779-babb-5722de1bc210
X-WR-CALNAME:iCagenda
X-WR-CALDESC:Event Management Extension for Joomla!
X-WR-RELCALID:3E26604A-50F4-4449-8B3E-E4F4932D05B5
X-WR-TIMEZONE:UTC
BEGIN:VTIMEZONE
TZID:UTC
END:VTIMEZONE
BEGIN:VEVENT
UID:fa555fe8-e297-41c3-98e3-44173cafab29
DTSTAMP:20260419T195845Z
CATEGORIES:Corsi e incontri
CLASS:PUBLIC
DESCRIPTION:
DTSTART:20260209T160000Z
DTEND:20260209T160000Z
GEO:00;0
LOCATION:
ORGANIZER:
SEQUENCE:1
SUMMARY:Percorsi di storia locale
TRANSP:OPAQUE
URL:http://www.unitresanmauro.it/index.php/component/icagenda/38-percorsi-d
 i-storia-locale/2026-02-09-16-00
END:VEVENT
END:VCALENDAR
