BEGIN:VCALENDAR
VERSION:2.0
PRODID:-//Unitre San Mauro//NONSGML kigkonsult.se iCalcreator 2.30.10//
CALSCALE:GREGORIAN
METHOD:PUBLISH
UID:4d7c4d21-9713-4785-89a6-f3f8dfb74276
X-WR-CALNAME:iCagenda
X-WR-CALDESC:Event Management Extension for Joomla!
X-WR-RELCALID:3E26604A-50F4-4449-8B3E-E4F4932D05B5
X-WR-TIMEZONE:UTC
BEGIN:VTIMEZONE
TZID:UTC
END:VTIMEZONE
BEGIN:VEVENT
UID:e5e4d198-b121-4668-bda0-066aeef297ce
DTSTAMP:20260419T195736Z
CATEGORIES:Corsi e incontri
CLASS:PUBLIC
DESCRIPTION;ALTREP="CID:<FFFF__=0ABBE548DFE235B58f9e8a93d@coffeebean.com>":
 Orario lezione: 16.00 - 18.00
DTSTART:20260224T160000Z
DTEND:20260224T160000Z
GEO:00;0
LOCATION:
ORGANIZER:
SEQUENCE:1
SUMMARY:Viaggi e miraggi in terre lontane
TRANSP:OPAQUE
URL:http://www.unitresanmauro.it/index.php/component/icagenda/42-viaggi-e-m
 iraggi-in-terre-lontane/2026-02-24-16-00
END:VEVENT
END:VCALENDAR
