BEGIN:VCALENDAR
VERSION:2.0
PRODID:-//Unitre San Mauro//NONSGML kigkonsult.se iCalcreator 2.30.10//
CALSCALE:GREGORIAN
METHOD:PUBLISH
UID:5e8b2837-7505-475f-80a0-56b1214eb0b5
X-WR-CALNAME:iCagenda
X-WR-CALDESC:Event Management Extension for Joomla!
X-WR-RELCALID:3E26604A-50F4-4449-8B3E-E4F4932D05B5
X-WR-TIMEZONE:UTC
BEGIN:VTIMEZONE
TZID:UTC
END:VTIMEZONE
BEGIN:VEVENT
UID:6afee4a4-2e19-4fdd-b4b9-ff7ccc42c975
DTSTAMP:20260419T195845Z
CATEGORIES:Corsi e incontri
CLASS:PUBLIC
DESCRIPTION;ALTREP="CID:<FFFF__=0ABBE548DFE235B58f9e8a93d@coffeebean.com>":
 Orario lezione: 16.00 - 18.00
DTSTART:20260211T160000Z
DTEND:20260211T160000Z
GEO:00;0
LOCATION:
ORGANIZER:
SEQUENCE:1
SUMMARY:Storia della filosofia
TRANSP:OPAQUE
URL:http://www.unitresanmauro.it/index.php/component/icagenda/46-storia-del
 la-filosofia/2026-02-11-16-00
END:VEVENT
END:VCALENDAR
