BEGIN:VCALENDAR
VERSION:2.0
PRODID:-//Unitre San Mauro//NONSGML kigkonsult.se iCalcreator 2.30.10//
CALSCALE:GREGORIAN
METHOD:PUBLISH
UID:fda4281d-ea03-495c-aba0-f75c16bbfaae
X-WR-CALNAME:iCagenda
X-WR-CALDESC:Event Management Extension for Joomla!
X-WR-RELCALID:3E26604A-50F4-4449-8B3E-E4F4932D05B5
X-WR-TIMEZONE:UTC
BEGIN:VTIMEZONE
TZID:UTC
END:VTIMEZONE
BEGIN:VEVENT
UID:d254139e-516b-48cb-bf14-ee3611d59c89
DTSTAMP:20260419T195845Z
CATEGORIES:Corsi e incontri
CLASS:PUBLIC
DESCRIPTION;ALTREP="CID:<FFFF__=0ABBE548DFE235B58f9e8a93d@coffeebean.com>":
 Orario lezione: 16.00 - 18.00
DTSTART:20260219T160000Z
DTEND:20260219T160000Z
GEO:00;0
LOCATION:
ORGANIZER:
SEQUENCE:1
SUMMARY:Storia dell'arte e archeologia
TRANSP:OPAQUE
URL:http://www.unitresanmauro.it/index.php/component/icagenda/48-corso-di-s
 toria-dellarte-e-archeologia/2026-02-19-16-00
END:VEVENT
END:VCALENDAR
