BEGIN:VCALENDAR
VERSION:2.0
PRODID:-//Unitre San Mauro//NONSGML kigkonsult.se iCalcreator 2.30.10//
CALSCALE:GREGORIAN
METHOD:PUBLISH
UID:56f3611e-be60-45b7-8ef4-6b78fb41fe0e
X-WR-CALNAME:iCagenda
X-WR-CALDESC:Event Management Extension for Joomla!
X-WR-RELCALID:3E26604A-50F4-4449-8B3E-E4F4932D05B5
X-WR-TIMEZONE:UTC
BEGIN:VTIMEZONE
TZID:UTC
END:VTIMEZONE
BEGIN:VEVENT
UID:d56a3135-d980-46ff-83a7-3fd0a71a2c21
DTSTAMP:20260419T195843Z
CATEGORIES:Laboratori
CLASS:PUBLIC
DESCRIPTION;ALTREP="CID:<FFFF__=0ABBE548DFE235B58f9e8a93d@coffeebean.com>":
 Orario lezione: 09.30 - 11.30
DTSTART:20260223T093000Z
DTEND:20260223T093000Z
GEO:00;0
LOCATION:
ORGANIZER:
SEQUENCE:1
SUMMARY:Lavoro a maglia e uncinetto
TRANSP:OPAQUE
URL:http://www.unitresanmauro.it/index.php/component/icagenda/65-lavoro-a-m
 aglia-e-uncinetto/2026-02-23-09-30
END:VEVENT
END:VCALENDAR
