BEGIN:VCALENDAR
VERSION:2.0
PRODID:-//Unitre San Mauro//NONSGML kigkonsult.se iCalcreator 2.30.10//
CALSCALE:GREGORIAN
METHOD:PUBLISH
UID:63d02214-3a0d-48e0-9b6a-1252bc502bd8
X-WR-CALNAME:iCagenda
X-WR-CALDESC:Event Management Extension for Joomla!
X-WR-RELCALID:3E26604A-50F4-4449-8B3E-E4F4932D05B5
X-WR-TIMEZONE:UTC
BEGIN:VTIMEZONE
TZID:UTC
END:VTIMEZONE
BEGIN:VEVENT
UID:da38bd32-3c32-434c-8ff5-501a5c0bd4ea
DTSTAMP:20260419T195832Z
CATEGORIES:Laboratori
CLASS:PUBLIC
DESCRIPTION;ALTREP="CID:<FFFF__=0ABBE548DFE235B58f9e8a93d@coffeebean.com>":
 Orario lezione: 09.30 - 11.30\nIl mio corso consiste nell’insegnare le tec
 niche per la realizzazione di vari elementi per la casa quali ad esempio c
 uscini\, tovaglie\, lenzuola con angoli\, presine\, tende ecc. ecc.\nL’att
 ività verrà svolta condividendo con le allieve il manufatto da realizzare 
 ed illustrandone la tecnica realizzativa\, mi affiancherò successivamente 
 per seguirle nella confezione guidandole nella corretta esecuzione\nIl cor
 so potrà avere migliori risultati se le partecipanti hanno una conoscenza\
 , anche di base\, dell’uso della macchina da cucire\n&nbsp\;\nLa mia passi
 one per il cucito risale ai tempi della scuola\, ho frequentato l’Istituto
  d’Arte di Moda e Costume affinando così la mia creatività e passione per 
 questa attività.\nLe mie esperienze lavorative si sono svolte sempre in qu
 esto ambito ed attualmente sono una sarta specializzata nel settore dell’a
 rredamento\, confeziono tende cuscini tovaglie e vari complementi d’arredo
 .\n&nbsp\;\n&nbsp\;\n&nbsp\;
DTSTART:20260211T093000Z
DTEND:20260211T093000Z
GEO:00;0
LOCATION:
ORGANIZER:
SEQUENCE:1
SUMMARY:Cucito per la casa  (corso a numero chiuso)
TRANSP:OPAQUE
URL:http://www.unitresanmauro.it/index.php/component/icagenda/69-cucito-per
 -la-casa/2026-02-11-09-30
END:VEVENT
END:VCALENDAR
