BEGIN:VCALENDAR
VERSION:2.0
PRODID:-//Unitre San Mauro//NONSGML kigkonsult.se iCalcreator 2.30.10//
CALSCALE:GREGORIAN
METHOD:PUBLISH
UID:5882d4c6-254d-44d3-aebf-d41aa3ed7c8b
X-WR-CALNAME:iCagenda
X-WR-CALDESC:Event Management Extension for Joomla!
X-WR-RELCALID:3E26604A-50F4-4449-8B3E-E4F4932D05B5
X-WR-TIMEZONE:UTC
BEGIN:VTIMEZONE
TZID:UTC
END:VTIMEZONE
BEGIN:VEVENT
UID:92c7ffa6-f583-4753-8775-c63a1c0e220c
DTSTAMP:20260419T195738Z
CATEGORIES:Laboratori
CLASS:PUBLIC
DESCRIPTION;ALTREP="CID:<FFFF__=0ABBE548DFE235B58f9e8a93d@coffeebean.com>":
 Orario lezione: 09.30 - 11.30
DTSTART:20260213T160000Z
DTEND:20260213T160000Z
GEO:00;0
LOCATION:c/o scuola Dalla Chiesa\, V. Speranza 40\,  San Mauro
ORGANIZER:
SEQUENCE:1
SUMMARY:Informatica - corso avanzato pc (corso a numero chiuso) c/o Scuola 
 Dalla Chiesa v. Speranza 40
TRANSP:OPAQUE
URL:http://www.unitresanmauro.it/index.php/component/icagenda/71-informatic
 a-corso-avanzato/2026-02-13-16-00
END:VEVENT
END:VCALENDAR
