BEGIN:VCALENDAR
VERSION:2.0
PRODID:-//Unitre San Mauro//NONSGML kigkonsult.se iCalcreator 2.30.10//
CALSCALE:GREGORIAN
METHOD:PUBLISH
UID:1bb04d69-b9de-403c-b36b-419e38c4a3c1
X-WR-CALNAME:iCagenda
X-WR-CALDESC:Event Management Extension for Joomla!
X-WR-RELCALID:3E26604A-50F4-4449-8B3E-E4F4932D05B5
X-WR-TIMEZONE:UTC
BEGIN:VTIMEZONE
TZID:UTC
END:VTIMEZONE
BEGIN:VEVENT
UID:5cb6b428-03f3-4e04-b93a-e8321bfa9b67
DTSTAMP:20260419T195855Z
CATEGORIES:Laboratori
CLASS:PUBLIC
DESCRIPTION;ALTREP="CID:<FFFF__=0ABBE548DFE235B58f9e8a93d@coffeebean.com>":
 Orario lezione: 09.30 - 11.30
DTSTART:20260227T160000Z
DTEND:20260227T160000Z
GEO:00;0
LOCATION:c/o scuola Dalla Chiesa\, V. Speranza 40\,  San Mauro
ORGANIZER:
SEQUENCE:1
SUMMARY:Informatica - corso avanzato pc (corso a numero chiuso) c/o Scuola 
 Dalla Chiesa v. Speranza 40
TRANSP:OPAQUE
URL:http://www.unitresanmauro.it/index.php/component/icagenda/71-informatic
 a-corso-avanzato/2026-02-27-16-00
END:VEVENT
END:VCALENDAR
