BEGIN:VCALENDAR
VERSION:2.0
PRODID:-//Unitre San Mauro//NONSGML kigkonsult.se iCalcreator 2.30.10//
CALSCALE:GREGORIAN
METHOD:PUBLISH
UID:66fc259e-99b9-45ba-a6a5-5de17c4793e2
X-WR-CALNAME:iCagenda
X-WR-CALDESC:Event Management Extension for Joomla!
X-WR-RELCALID:3E26604A-50F4-4449-8B3E-E4F4932D05B5
X-WR-TIMEZONE:UTC
BEGIN:VTIMEZONE
TZID:UTC
END:VTIMEZONE
BEGIN:VEVENT
UID:ccc038a1-f0be-4e02-9ff2-c3760ce398ec
DTSTAMP:20260419T195826Z
CATEGORIES:Laboratori
CLASS:PUBLIC
DESCRIPTION;ALTREP="CID:<FFFF__=0ABBE548DFE235B58f9e8a93d@coffeebean.com>":
 Orario lezione: 09.30 - 11.30
DTSTART:20260205T100000Z
DTEND:20260205T100000Z
GEO:00;0
LOCATION:
ORGANIZER:
SEQUENCE:1
SUMMARY:Musicoterapia - corso n° 2 (corso a numero chiuso)
TRANSP:OPAQUE
URL:http://www.unitresanmauro.it/index.php/component/icagenda/79-musicotera
 pia-corso-n-2/2026-02-05-10-00
END:VEVENT
END:VCALENDAR
