BEGIN:VCALENDAR
VERSION:2.0
PRODID:-//Unitre San Mauro//NONSGML kigkonsult.se iCalcreator 2.30.10//
CALSCALE:GREGORIAN
METHOD:PUBLISH
UID:8d1a3e52-d4f8-4fa5-8959-2058fdd730b4
X-WR-CALNAME:iCagenda
X-WR-CALDESC:Event Management Extension for Joomla!
X-WR-RELCALID:3E26604A-50F4-4449-8B3E-E4F4932D05B5
X-WR-TIMEZONE:UTC
BEGIN:VTIMEZONE
TZID:UTC
END:VTIMEZONE
BEGIN:VEVENT
UID:6d169675-7803-4bdc-9648-2b5561585f83
DTSTAMP:20260419T195829Z
CATEGORIES:Laboratori
CLASS:PUBLIC
DESCRIPTION;ALTREP="CID:<FFFF__=0ABBE548DFE235B58f9e8a93d@coffeebean.com>":
 Orario lezione: 16.00 – 18.00
DTSTART:20260202T160000Z
DTEND:20260202T160000Z
GEO:00;0
LOCATION:
ORGANIZER:
SEQUENCE:1
SUMMARY:Laboratorio di calligrafia
TRANSP:OPAQUE
URL:http://www.unitresanmauro.it/index.php/component/icagenda/86-laboratori
 o-di-calligrafia/2026-02-02-16-00
END:VEVENT
END:VCALENDAR
