BEGIN:VCALENDAR
VERSION:2.0
PRODID:-//Unitre San Mauro//NONSGML kigkonsult.se iCalcreator 2.30.10//
CALSCALE:GREGORIAN
METHOD:PUBLISH
UID:7f5c4d87-1101-475b-8484-954ae71a58b2
X-WR-CALNAME:iCagenda
X-WR-CALDESC:Event Management Extension for Joomla!
X-WR-RELCALID:3E26604A-50F4-4449-8B3E-E4F4932D05B5
X-WR-TIMEZONE:UTC
BEGIN:VTIMEZONE
TZID:UTC
END:VTIMEZONE
BEGIN:VEVENT
UID:b7496e7d-0bd8-43e0-8e65-748291060477
DTSTAMP:20260419T195844Z
CATEGORIES:Laboratori
CLASS:PUBLIC
DESCRIPTION;ALTREP="CID:<FFFF__=0ABBE548DFE235B58f9e8a93d@coffeebean.com>":
 Orario lezione: 16.00 – 18.00\nQualche notizia sul Gongbi….\nQuesta&nbsp\;
 tecnica&nbsp\;trovò la sua massima diffusione durante la&nbsp\;dinastia ci
 nese Han\, circa 2.000 anni fa.\nIl nome&nbsp\;Gongbi&nbsp\;deriva dal cin
 ese “gong-chin” che significa “ordinata” o&nbsp\;arte della pennellata met
 icolosa.\nPittura ordinata in quanto c’è un utilizzo del&nbsp\;pennello mo
 lto preciso&nbsp\;nella riproduzione dei particolari.\nL’uso della&nbsp\;c
 arta di riso o gelso\, dell’inchiostro di china\, dell’acqua e dei colori 
 tempera rendono questa tecnica pittorica particolare\,&nbsp\;diversa&nbsp\
 ;dai canoni occidentali.\nViene utilizzata anche la seta\, anche se la mag
 gior parte dei dipinti è fatta su carta.\nI soggetti riprodotti sono sopra
 ttutto&nbsp\;naturalistici\, in particolare fiori ed uccelli.
DTSTART:20260209T160000Z
DTEND:20260209T160000Z
GEO:00;0
LOCATION:
ORGANIZER:
SEQUENCE:1
SUMMARY:Pittura cinese
TRANSP:OPAQUE
URL:http://www.unitresanmauro.it/index.php/component/icagenda/87-pittura-ci
 nese/2026-02-09-16-00
END:VEVENT
END:VCALENDAR
