BEGIN:VCALENDAR
VERSION:2.0
PRODID:-//Unitre San Mauro//NONSGML kigkonsult.se iCalcreator 2.30.10//
CALSCALE:GREGORIAN
METHOD:PUBLISH
UID:1957ef48-70c9-4b0b-a60c-364bfa54cc80
X-WR-CALNAME:iCagenda
X-WR-CALDESC:Event Management Extension for Joomla!
X-WR-RELCALID:3E26604A-50F4-4449-8B3E-E4F4932D05B5
X-WR-TIMEZONE:UTC
BEGIN:VTIMEZONE
TZID:UTC
END:VTIMEZONE
BEGIN:VEVENT
UID:e0c5840b-606a-4936-87e9-630c5c4cd6e9
DTSTAMP:20260419T195834Z
CATEGORIES:Laboratori
CLASS:PUBLIC
DESCRIPTION;ALTREP="CID:<FFFF__=0ABBE548DFE235B58f9e8a93d@coffeebean.com>":
 Orario lezione: 16.00 – 18.00\nMetodo che ti porterà ad imparare gli accor
 di necessari all'accompagnamento di qualsiasi canzone e leggere le melodie
  senza avere conoscenza di solfeggio o altro con il metodo Suzuki !\nIl co
 rso è dedicato a tutti gli appasionati di musica \, NESSUNO ESCLUSO!
DTSTART:20260209T093000Z
DTEND:20260209T093000Z
GEO:00;0
LOCATION:
ORGANIZER:
SEQUENCE:1
SUMMARY:Corso di chitarra avanzato
TRANSP:OPAQUE
URL:http://www.unitresanmauro.it/index.php/component/icagenda/88-corso-di-c
 hitarra/2026-02-09-09-30
END:VEVENT
END:VCALENDAR
