BEGIN:VCALENDAR
VERSION:2.0
PRODID:-//Unitre San Mauro//NONSGML kigkonsult.se iCalcreator 2.30.10//
CALSCALE:GREGORIAN
METHOD:PUBLISH
UID:11cd6109-ce5b-48e8-b663-9bcb061f6d06
X-WR-CALNAME:iCagenda
X-WR-CALDESC:Event Management Extension for Joomla!
X-WR-RELCALID:3E26604A-50F4-4449-8B3E-E4F4932D05B5
X-WR-TIMEZONE:UTC
BEGIN:VTIMEZONE
TZID:UTC
END:VTIMEZONE
BEGIN:VEVENT
UID:d606921b-25d3-46fe-85c8-b1f2bd41d549
DTSTAMP:20260419T195826Z
CATEGORIES:Laboratori
CLASS:PUBLIC
DESCRIPTION;ALTREP="CID:<FFFF__=0ABBE548DFE235B58f9e8a93d@coffeebean.com>":
 Orario lezione: 16.00 – 18.00
DTSTART:20260206T160000Z
DTEND:20260206T160000Z
GEO:00;0
LOCATION:
ORGANIZER:
SEQUENCE:1
SUMMARY:Insieme... con il canto
TRANSP:OPAQUE
URL:http://www.unitresanmauro.it/index.php/component/icagenda/94-insieme-co
 n-il-canto/2026-02-06-16-00
END:VEVENT
END:VCALENDAR
