BEGIN:VCALENDAR
VERSION:2.0
PRODID:-//Unitre San Mauro//NONSGML kigkonsult.se iCalcreator 2.30.10//
CALSCALE:GREGORIAN
METHOD:PUBLISH
UID:de7c9d24-9a9f-46a2-b4d9-f236e4011d37
X-WR-CALNAME:iCagenda
X-WR-CALDESC:Event Management Extension for Joomla!
X-WR-RELCALID:3E26604A-50F4-4449-8B3E-E4F4932D05B5
X-WR-TIMEZONE:UTC
BEGIN:VTIMEZONE
TZID:UTC
END:VTIMEZONE
BEGIN:VEVENT
UID:5df0e061-6cb8-479f-bbc5-e0b421bd454b
DTSTAMP:20260419T195827Z
CATEGORIES:Laboratori
CLASS:PUBLIC
DESCRIPTION;ALTREP="CID:<FFFF__=0ABBE548DFE235B58f9e8a93d@coffeebean.com>":
 Orario lezione: 16.00 – 18.00
DTSTART:20260227T160000Z
DTEND:20260227T160000Z
GEO:00;0
LOCATION:
ORGANIZER:
SEQUENCE:1
SUMMARY:Giochiamo a burraco
TRANSP:OPAQUE
URL:http://www.unitresanmauro.it/index.php/component/icagenda/95-giochiamo-
 a-burraco/2026-02-27-16-00
END:VEVENT
END:VCALENDAR
